BEGIN:VCALENDAR
VERSION:2.0
PRODID:-//Master Gardeners of Greater Kansas City - ECPv6.15.20//NONSGML v1.0//EN
CALSCALE:GREGORIAN
METHOD:PUBLISH
X-WR-CALNAME:Master Gardeners of Greater Kansas City
X-ORIGINAL-URL:https://mggkc.org
X-WR-CALDESC:Events for Master Gardeners of Greater Kansas City
REFRESH-INTERVAL;VALUE=DURATION:PT1H
X-Robots-Tag:noindex
X-PUBLISHED-TTL:PT1H
BEGIN:VTIMEZONE
TZID:America/Chicago
BEGIN:DAYLIGHT
TZOFFSETFROM:-0600
TZOFFSETTO:-0500
TZNAME:CDT
DTSTART:20240310T080000
END:DAYLIGHT
BEGIN:STANDARD
TZOFFSETFROM:-0500
TZOFFSETTO:-0600
TZNAME:CST
DTSTART:20241103T070000
END:STANDARD
BEGIN:DAYLIGHT
TZOFFSETFROM:-0600
TZOFFSETTO:-0500
TZNAME:CDT
DTSTART:20250309T080000
END:DAYLIGHT
BEGIN:STANDARD
TZOFFSETFROM:-0500
TZOFFSETTO:-0600
TZNAME:CST
DTSTART:20251102T070000
END:STANDARD
BEGIN:DAYLIGHT
TZOFFSETFROM:-0600
TZOFFSETTO:-0500
TZNAME:CDT
DTSTART:20260308T080000
END:DAYLIGHT
BEGIN:STANDARD
TZOFFSETFROM:-0500
TZOFFSETTO:-0600
TZNAME:CST
DTSTART:20261101T070000
END:STANDARD
END:VTIMEZONE
BEGIN:VEVENT
DTSTART;TZID=America/Chicago:20250315T080000
DTEND;TZID=America/Chicago:20250315T170000
DTSTAMP:20260420T083410
CREATED:20250220T171543Z
LAST-MODIFIED:20250220T171543Z
UID:8130-1742025600-1742058000@mggkc.org
SUMMARY:Beginning Beekeeping Workshop
DESCRIPTION:An all-day intensive for beginning\, new\, and seasoned beekeepers! The agenda will include: \nBee Biology; Equipment; Acquiring Bees; Spring\, Fall\, and Winter  Management; Bee Diseases and Pest Management; Educational  Opportunities; Hive Location; Honey Plants; Extracting Honey;  Beekeeping Etiquette; Questions and Answers; and a chance to  win a Complete Colony of Honey Bees!  \nPresentations are also certified for the Great Plains Master Beekeeping Program  Credits via the University of Nebraska. https://gpmb.unl.edu/about-master beekeeping-program  \n$75 Pre-Registration Fee includes:  \nA Beekeeping Handbook\, membership in the association\, presentation notes\,  monthly newsletter (Apiary Buzz)\, and lunch will be provided.  \nBeekeeping Supply Vendors will be on site. \nFor more info:  \n Cathy Misko (660) 656-3485\ncathymisko@earthlink.net  \nor \nTom O’Neill (660) 525-5828\njocomoba@gmail.com \nTo download PRE-Registration Form\nVisit www.JCMBA.org
URL:https://mggkc.org/event/beginning-beekeeping-workshop/
LOCATION:University of Central Missouri\, Warrensburg\, MO\, 511 S Holden St\, Warrensburg\, Missouri\, 64093
END:VEVENT
BEGIN:VEVENT
DTSTART;TZID=America/Chicago:20250308T130000
DTEND;TZID=America/Chicago:20250308T160000
DTSTAMP:20260420T083410
CREATED:20250205T172118Z
LAST-MODIFIED:20250205T172118Z
UID:7924-1741438800-1741449600@mggkc.org
SUMMARY:Spring Fling
DESCRIPTION:Spring is just around the corner. Join MU Extension Master Gardeners of Greater Kansas City for Spring Fling 2025. Three Speakers Bureau presentations: Adaptive Gardening\, Natives in Containers\, and Integrated Pest Management Basics will provide information to help you make the most of your garden. Extension Master Gardeners from each of our gardens and projects will have gardening demonstrations and takeaways to inspire your creativity. There will also be activities for children to teach them about plants and beneficial bugs\, plus a fun scavenger hunt. Our motto is “Helping Others Learn to Grow” and we look forward to giving you the tips and information you need to help your garden bloom. \nFree to the public\, children 16 and under welcome when accompanied by an adult
URL:https://mggkc.org/event/spring-fling/
LOCATION:Hiram Young School\, 501 North Dodgion Street\, Independence\, MO\, 64050\, United States
END:VEVENT
END:VCALENDAR