BEGIN:VCALENDAR
VERSION:2.0
PRODID:-//Master Gardeners of Greater Kansas City - ECPv6.15.20//NONSGML v1.0//EN
CALSCALE:GREGORIAN
METHOD:PUBLISH
X-ORIGINAL-URL:https://mggkc.org
X-WR-CALDESC:Events for Master Gardeners of Greater Kansas City
REFRESH-INTERVAL;VALUE=DURATION:PT1H
X-Robots-Tag:noindex
X-PUBLISHED-TTL:PT1H
BEGIN:VTIMEZONE
TZID:America/Chicago
BEGIN:DAYLIGHT
TZOFFSETFROM:-0600
TZOFFSETTO:-0500
TZNAME:CDT
DTSTART:20250309T080000
END:DAYLIGHT
BEGIN:STANDARD
TZOFFSETFROM:-0500
TZOFFSETTO:-0600
TZNAME:CST
DTSTART:20251102T070000
END:STANDARD
BEGIN:DAYLIGHT
TZOFFSETFROM:-0600
TZOFFSETTO:-0500
TZNAME:CDT
DTSTART:20260308T080000
END:DAYLIGHT
BEGIN:STANDARD
TZOFFSETFROM:-0500
TZOFFSETTO:-0600
TZNAME:CST
DTSTART:20261101T070000
END:STANDARD
BEGIN:DAYLIGHT
TZOFFSETFROM:-0600
TZOFFSETTO:-0500
TZNAME:CDT
DTSTART:20270314T080000
END:DAYLIGHT
BEGIN:STANDARD
TZOFFSETFROM:-0500
TZOFFSETTO:-0600
TZNAME:CST
DTSTART:20271107T070000
END:STANDARD
END:VTIMEZONE
BEGIN:VEVENT
DTSTART;TZID=America/Chicago:20260307T130000
DTEND;TZID=America/Chicago:20260307T160000
DTSTAMP:20260420T020317
CREATED:20260206T202303Z
LAST-MODIFIED:20260303T163813Z
UID:8717-1772888400-1772899200@mggkc.org
SUMMARY:Spring Fling
DESCRIPTION:1:00 pm – 4:00 pm\nYoung School\, 501 N Dodgion St.\, Independence MO\nFamily Friendly Gardening Activities for children and adults \nDemonstrations\nFree researched-based information to get your garden started off right\nElevate your Gardening – Build a Raised Bed\nFrom Strained to Contained – gardening in small spaces\nMulch Magic – The Power of Mulch\nPollinator Party – Native Plants in Action\nThe Dirt on Soil\nTest – Don’t Guess with Soil testing (10 Free Soil tests will be given away) \nServices\nSoil Test sample drop off – $20.00\nTalk to an EMG \nMake and Takes\nSeed Tapes\nSeed Bombs\nHouseplant propagation \n 
URL:https://mggkc.org/event/spring-fling-2/
LOCATION:Hiram Young School\, 501 North Dodgion Street\, Independence\, MO\, 64050\, United States
END:VEVENT
BEGIN:VEVENT
DTSTART;TZID=America/Chicago:20260502T090000
DTEND;TZID=America/Chicago:20260502T150000
DTSTAMP:20260420T020317
CREATED:20260312T233903Z
LAST-MODIFIED:20260312T234445Z
UID:8883-1777712400-1777734000@mggkc.org
SUMMARY:HUGE Garage/Plant Sale
DESCRIPTION:Dig and Divide Plant and Garage Sale \nPresented by \nThe Extension Master Gardeners of Greater Kansas City \nYoung School\n501 North Dodgion Street\nIndependence\, MO 64050 \nFor Sale\nPerennials\, annuals\, vegetables\, herbs\, and houseplants\nGarden and garage sale items \nFree class\n“Dividing Perennials” at 11:30 \nProceeds from this fundraiser support our local gardening projects and educational outreach programs.
URL:https://mggkc.org/event/huge-garage-plant-sale/
LOCATION:Hiram Young School\, 501 North Dodgion Street\, Independence\, MO\, 64050\, United States
END:VEVENT
END:VCALENDAR