BEGIN:VCALENDAR
VERSION:2.0
PRODID:-//Master Gardeners of Greater Kansas City - ECPv6.15.20//NONSGML v1.0//EN
CALSCALE:GREGORIAN
METHOD:PUBLISH
X-WR-CALNAME:Master Gardeners of Greater Kansas City
X-ORIGINAL-URL:https://mggkc.org
X-WR-CALDESC:Events for Master Gardeners of Greater Kansas City
REFRESH-INTERVAL;VALUE=DURATION:PT1H
X-Robots-Tag:noindex
X-PUBLISHED-TTL:PT1H
BEGIN:VTIMEZONE
TZID:America/Chicago
BEGIN:DAYLIGHT
TZOFFSETFROM:-0600
TZOFFSETTO:-0500
TZNAME:CDT
DTSTART:20240310T080000
END:DAYLIGHT
BEGIN:STANDARD
TZOFFSETFROM:-0500
TZOFFSETTO:-0600
TZNAME:CST
DTSTART:20241103T070000
END:STANDARD
BEGIN:DAYLIGHT
TZOFFSETFROM:-0600
TZOFFSETTO:-0500
TZNAME:CDT
DTSTART:20250309T080000
END:DAYLIGHT
BEGIN:STANDARD
TZOFFSETFROM:-0500
TZOFFSETTO:-0600
TZNAME:CST
DTSTART:20251102T070000
END:STANDARD
BEGIN:DAYLIGHT
TZOFFSETFROM:-0600
TZOFFSETTO:-0500
TZNAME:CDT
DTSTART:20260308T080000
END:DAYLIGHT
BEGIN:STANDARD
TZOFFSETFROM:-0500
TZOFFSETTO:-0600
TZNAME:CST
DTSTART:20261101T070000
END:STANDARD
END:VTIMEZONE
BEGIN:VEVENT
DTSTART;TZID=America/Chicago:20250601T120000
DTEND;TZID=America/Chicago:20250601T170000
DTSTAMP:20260420T014603
CREATED:20250519T200901Z
LAST-MODIFIED:20250519T200901Z
UID:8434-1748779200-1748797200@mggkc.org
SUMMARY:Fox Hollow Festival
DESCRIPTION:Fox Hollow Festival \nEnjoy an afternoon filled with fun activities for all ages. Attendance is free with optional items for sale. Proceeds go to Friends of Fox Hollow for trail maintenance and improvements. To enhance your experience\, you’re encouraged to bring a folding chair\, hat\, bug spray and a refillable cup. We will have free cold drinks. This is a dog friendly event. Dogs must be on a leash and are not permitted inside the building.  \nMaster Gardeners of Greater Kansas City Children’s Programs will be presenting “Pollinators: Not Just Bees and Butterflies.” Children can learn about other living and non-living ways plants are pollinated\, and discover these pollinators work by day and night. There will be an experiment using an insect to pollinate paper flowers and learn ways to help pollinators in their own home and community. MGGKC activities will be from 12 pm to 2:30 pm. From 2:30 – 5:00  pm\, enjoy festival activities such as food trucks\, live music\, and adult beverages.
URL:https://mggkc.org/event/fox-hollow-festival/
LOCATION:Lakeside Nature Center\, 4701 East Gregory Boulevard\, Kansas City\, MO\, 64132
END:VEVENT
END:VCALENDAR