BEGIN:VCALENDAR
VERSION:2.0
PRODID:-//Master Gardeners of Greater Kansas City - ECPv6.15.20//NONSGML v1.0//EN
CALSCALE:GREGORIAN
METHOD:PUBLISH
X-ORIGINAL-URL:https://mggkc.org
X-WR-CALDESC:Events for Master Gardeners of Greater Kansas City
REFRESH-INTERVAL;VALUE=DURATION:PT1H
X-Robots-Tag:noindex
X-PUBLISHED-TTL:PT1H
BEGIN:VTIMEZONE
TZID:America/Chicago
BEGIN:DAYLIGHT
TZOFFSETFROM:-0600
TZOFFSETTO:-0500
TZNAME:CDT
DTSTART:20240310T080000
END:DAYLIGHT
BEGIN:STANDARD
TZOFFSETFROM:-0500
TZOFFSETTO:-0600
TZNAME:CST
DTSTART:20241103T070000
END:STANDARD
BEGIN:DAYLIGHT
TZOFFSETFROM:-0600
TZOFFSETTO:-0500
TZNAME:CDT
DTSTART:20250309T080000
END:DAYLIGHT
BEGIN:STANDARD
TZOFFSETFROM:-0500
TZOFFSETTO:-0600
TZNAME:CST
DTSTART:20251102T070000
END:STANDARD
BEGIN:DAYLIGHT
TZOFFSETFROM:-0600
TZOFFSETTO:-0500
TZNAME:CDT
DTSTART:20260308T080000
END:DAYLIGHT
BEGIN:STANDARD
TZOFFSETFROM:-0500
TZOFFSETTO:-0600
TZNAME:CST
DTSTART:20261101T070000
END:STANDARD
END:VTIMEZONE
BEGIN:VEVENT
DTSTART;TZID=America/Chicago:20250424T090000
DTEND;TZID=America/Chicago:20250426T170000
DTSTAMP:20260420T045720
CREATED:20250315T165638Z
LAST-MODIFIED:20250315T165638Z
UID:8195-1745485200-1745686800@mggkc.org
SUMMARY:Paola Plant Sale
DESCRIPTION:Marais des Cygnes Extension Master Gardeners indoor plant sale.  Choose from a large inventory  of butterfly host plants\, bee-friendly flowering plants\, local\, organically grown native and ornamental perennials\, herbs\, hanging baskets\, succulents\, shady and sun-loving annuals\, and proven vegetable and fruit selections for our area. For more information call 913-294-4306 or contact www.maraisdescygnes.ksu.edu. \nApril 24 (9 am – 5 pm)\, April 25 (9am – 6 pm)\, and April 26 (9am – 3pm) \nMiami County Fairgrounds\, Building #2 (Indoor sale)\n401 Wallace Park Drive\nPaola\, Kansas 66071
URL:https://mggkc.org/event/paola-plant-sale/
LOCATION:MO
END:VEVENT
END:VCALENDAR